BEGIN:VCALENDAR
VERSION:2.0
PRODID:-//Spartan Wrestling - Calgary Wrestling Club - ECPv6.15.13.1//NONSGML v1.0//EN
CALSCALE:GREGORIAN
METHOD:PUBLISH
X-WR-CALNAME:Spartan Wrestling - Calgary Wrestling Club
X-ORIGINAL-URL:https://spartanwrestling.ca
X-WR-CALDESC:Events for Spartan Wrestling - Calgary Wrestling Club
REFRESH-INTERVAL;VALUE=DURATION:PT1H
X-Robots-Tag:noindex
X-PUBLISHED-TTL:PT1H
BEGIN:VTIMEZONE
TZID:America/Edmonton
BEGIN:DAYLIGHT
TZOFFSETFROM:-0700
TZOFFSETTO:-0600
TZNAME:MDT
DTSTART:20220313T090000
END:DAYLIGHT
BEGIN:STANDARD
TZOFFSETFROM:-0600
TZOFFSETTO:-0700
TZNAME:MST
DTSTART:20221106T080000
END:STANDARD
BEGIN:DAYLIGHT
TZOFFSETFROM:-0700
TZOFFSETTO:-0600
TZNAME:MDT
DTSTART:20230312T090000
END:DAYLIGHT
BEGIN:STANDARD
TZOFFSETFROM:-0600
TZOFFSETTO:-0700
TZNAME:MST
DTSTART:20231105T080000
END:STANDARD
BEGIN:DAYLIGHT
TZOFFSETFROM:-0700
TZOFFSETTO:-0600
TZNAME:MDT
DTSTART:20240310T090000
END:DAYLIGHT
BEGIN:STANDARD
TZOFFSETFROM:-0600
TZOFFSETTO:-0700
TZNAME:MST
DTSTART:20241103T080000
END:STANDARD
BEGIN:DAYLIGHT
TZOFFSETFROM:-0700
TZOFFSETTO:-0600
TZNAME:MDT
DTSTART:20250309T090000
END:DAYLIGHT
BEGIN:STANDARD
TZOFFSETFROM:-0600
TZOFFSETTO:-0700
TZNAME:MST
DTSTART:20251102T080000
END:STANDARD
BEGIN:DAYLIGHT
TZOFFSETFROM:-0700
TZOFFSETTO:-0600
TZNAME:MDT
DTSTART:20260308T090000
END:DAYLIGHT
BEGIN:STANDARD
TZOFFSETFROM:-0600
TZOFFSETTO:-0700
TZNAME:MST
DTSTART:20261101T080000
END:STANDARD
END:VTIMEZONE
BEGIN:VEVENT
DTSTART;VALUE=DATE:20251122
DTEND;VALUE=DATE:20251123
DTSTAMP:20260423T155750
CREATED:20250921T180640Z
LAST-MODIFIED:20251111T201707Z
UID:27764-1763769600-1763855999@spartanwrestling.ca
SUMMARY:Spartan Super Saturday Clinic - Basics and Set ups
DESCRIPTION:
URL:https://spartanwrestling.ca/event/spartan-super-saturday-clinic-basics-and-set-ups/
CATEGORIES:Adult (Age 18+),Bantam (Grade 6-8),CSG (Grade 9-12),Kids (Grade 3-5),Tykes (K-2)
END:VEVENT
BEGIN:VEVENT
DTSTART;VALUE=DATE:20251121
DTEND;VALUE=DATE:20251122
DTSTAMP:20260423T155750
CREATED:20251121T190618Z
LAST-MODIFIED:20251111T201632Z
UID:27762-1763683200-1763769599@spartanwrestling.ca
SUMMARY:Spartan Cup - Elementary Series - Round 1
DESCRIPTION:
URL:https://spartanwrestling.ca/event/spartan-cup-elementary-series-round-1/
CATEGORIES:Kids (Grade 3-5),Tykes (K-2)
END:VEVENT
BEGIN:VEVENT
DTSTART;TZID=America/Edmonton:20250425T080000
DTEND;TZID=America/Edmonton:20250427T170000
DTSTAMP:20260423T155750
CREATED:20230808T162458Z
LAST-MODIFIED:20240710T200639Z
UID:26024-1745568000-1745773200@spartanwrestling.ca
SUMMARY:U15/U17/U19 National Championships
DESCRIPTION:
URL:https://spartanwrestling.ca/event/u15-u17-u19-national-championships/
END:VEVENT
BEGIN:VEVENT
DTSTART;TZID=America/Edmonton:20250328T080000
DTEND;TZID=America/Edmonton:20250330T170000
DTSTAMP:20260423T155750
CREATED:20230808T162027Z
LAST-MODIFIED:20240710T200727Z
UID:26022-1743148800-1743354000@spartanwrestling.ca
SUMMARY:Alberta Open
DESCRIPTION:
URL:https://spartanwrestling.ca/event/alberta-open/
END:VEVENT
BEGIN:VEVENT
DTSTART;TZID=America/Edmonton:20241002T183000
DTEND;TZID=America/Edmonton:20241002T220000
DTSTAMP:20260423T155750
CREATED:20240710T201932Z
LAST-MODIFIED:20240710T201932Z
UID:27291-1727893800-1727906400@spartanwrestling.ca
SUMMARY:Tentative first day of practices 2024/25
DESCRIPTION:Tentative start date for the 2024/25 season. \n  \nPlease pre-register and pay your fees on time so we can get this locked in by the start of September 2024.
URL:https://spartanwrestling.ca/event/tentative-first-day-of-practices-2024-25/
END:VEVENT
BEGIN:VEVENT
DTSTART;TZID=America/Edmonton:20240826T080000
DTEND;TZID=America/Edmonton:20240920T170000
DTSTAMP:20260423T155750
CREATED:20240710T201758Z
LAST-MODIFIED:20240710T201824Z
UID:27289-1724659200-1726851600@spartanwrestling.ca
SUMMARY:Registration Closes Sept 20\, 2024
DESCRIPTION:Limited space available. Registration closes on September 20\, 2024. \n  \nClick here to Register Now
URL:https://spartanwrestling.ca/event/registration-closes-sept-20-2024/
END:VEVENT
BEGIN:VEVENT
DTSTART;TZID=America/Edmonton:20240806T080000
DTEND;TZID=America/Edmonton:20240825T233000
DTSTAMP:20260423T155750
CREATED:20240710T201716Z
LAST-MODIFIED:20240710T201745Z
UID:27287-1722931200-1724628600@spartanwrestling.ca
SUMMARY:Early Bird Savings – 10% Discount before August 25\, 2024
DESCRIPTION:10% off Early Bird Pricing Register and pay before  August 25\, 2024 (Aug 6 – Aug 25) \nRegister now by clicking here \n  \nCannot be combined with sibling discounts.
URL:https://spartanwrestling.ca/event/early-bird-savings-10-discount-before-august-25-2024/
END:VEVENT
BEGIN:VEVENT
DTSTART;TZID=America/Edmonton:20240720T080000
DTEND;TZID=America/Edmonton:20240805T233000
DTSTAMP:20260423T155750
CREATED:20240710T201548Z
LAST-MODIFIED:20240710T201610Z
UID:27285-1721462400-1722900600@spartanwrestling.ca
SUMMARY:Super Early Bird Savings – 20% Discount before August 5\, 2024
DESCRIPTION:Register and pay your fees by August 5\, 2024 to receive 20% savings on your team fees. \nRegister now by clicking here \n20% off Super Early Bird Pricing (July 20 – Aug 5) \n  \n*Cannot be combined with sibling discounts.
URL:https://spartanwrestling.ca/event/super-early-bird-savings-20-discount-before-august-5-2024/
END:VEVENT
BEGIN:VEVENT
DTSTART;TZID=America/Edmonton:20240706T080000
DTEND;TZID=America/Edmonton:20240719T233000
DTSTAMP:20260423T155750
CREATED:20240710T201132Z
LAST-MODIFIED:20240710T201439Z
UID:27282-1720252800-1721431800@spartanwrestling.ca
SUMMARY:Past Member only 25% Discount – Regsiter and Pay before July 19\, 2024
DESCRIPTION:Save 25% and secure your spot by signing up by July 19\, 2024 \nRegister now by clicking here \nCannot be combined with sibling discount.
URL:https://spartanwrestling.ca/event/20-off-super-early-bird-registration-discount/
END:VEVENT
BEGIN:VEVENT
DTSTART;TZID=America/Edmonton:20240314T080000
DTEND;TZID=America/Edmonton:20240317T170000
DTSTAMP:20260423T155750
CREATED:20230808T161538Z
LAST-MODIFIED:20230808T161538Z
UID:26019-1710403200-1710694800@spartanwrestling.ca
SUMMARY:Cadet/Jr/Sr Team Canada Trials
DESCRIPTION:
URL:https://spartanwrestling.ca/event/cadet-jr-sr-team-canada-trials/
LOCATION:Mississauga\, Mississauga\, Ontario\, Canada
END:VEVENT
BEGIN:VEVENT
DTSTART;VALUE=DATE:20240302
DTEND;VALUE=DATE:20240303
DTSTAMP:20260423T155750
CREATED:20230808T161339Z
LAST-MODIFIED:20230808T161339Z
UID:26017-1709337600-1709423999@spartanwrestling.ca
SUMMARY:Cochrane Cowboys Tournament
DESCRIPTION:
URL:https://spartanwrestling.ca/event/cochrane-cowboys-tournament/
END:VEVENT
BEGIN:VEVENT
DTSTART;TZID=America/Edmonton:20240127T080000
DTEND;TZID=America/Edmonton:20240127T170000
DTSTAMP:20260423T155750
CREATED:20230808T161129Z
LAST-MODIFIED:20230808T161129Z
UID:26012-1706342400-1706374800@spartanwrestling.ca
SUMMARY:Pronghorn Invitational
DESCRIPTION:
URL:https://spartanwrestling.ca/event/pronghorn-invitational/
LOCATION:Univesity of Lethbridge\, Lethbridge\, Alberta\, Canada
END:VEVENT
BEGIN:VEVENT
DTSTART;TZID=America/Edmonton:20240105T080000
DTEND;TZID=America/Edmonton:20240106T170000
DTSTAMP:20260423T155750
CREATED:20230808T160846Z
LAST-MODIFIED:20230808T160846Z
UID:26008-1704441600-1704560400@spartanwrestling.ca
SUMMARY:Jurassic Classic
DESCRIPTION:
URL:https://spartanwrestling.ca/event/jurassic-classic/
END:VEVENT
BEGIN:VEVENT
DTSTART;TZID=America/Edmonton:20231208T080000
DTEND;TZID=America/Edmonton:20231209T170000
DTSTAMP:20260423T155750
CREATED:20230808T160406Z
LAST-MODIFIED:20230808T160406Z
UID:26004-1702022400-1702141200@spartanwrestling.ca
SUMMARY:Wetaskiwin
DESCRIPTION:
URL:https://spartanwrestling.ca/event/wetaskiwin/
END:VEVENT
BEGIN:VEVENT
DTSTART;TZID=America/Edmonton:20231202T080000
DTEND;TZID=America/Edmonton:20231203T170000
DTSTAMP:20260423T155750
CREATED:20230808T160320Z
LAST-MODIFIED:20230808T160320Z
UID:26002-1701504000-1701622800@spartanwrestling.ca
SUMMARY:Cardston Open
DESCRIPTION:
URL:https://spartanwrestling.ca/event/cardston-open/
END:VEVENT
BEGIN:VEVENT
DTSTART;TZID=America/Edmonton:20231125T080000
DTEND;TZID=America/Edmonton:20231126T170000
DTSTAMP:20260423T155750
CREATED:20230808T160206Z
LAST-MODIFIED:20230808T160206Z
UID:26000-1700899200-1701018000@spartanwrestling.ca
SUMMARY:Husky Open
DESCRIPTION:
URL:https://spartanwrestling.ca/event/husky-open/
END:VEVENT
BEGIN:VEVENT
DTSTART;VALUE=DATE:20231021
DTEND;VALUE=DATE:20231022
DTSTAMP:20260423T155750
CREATED:20230808T155935Z
LAST-MODIFIED:20230808T155935Z
UID:25995-1697846400-1697932799@spartanwrestling.ca
SUMMARY:Dino Open
DESCRIPTION:
URL:https://spartanwrestling.ca/event/dino-open/
LOCATION:University of Calgary\, Calgary\, Alberta\, Canada
END:VEVENT
BEGIN:VEVENT
DTSTART;TZID=America/Edmonton:20230814T080000
DTEND;TZID=America/Edmonton:20230902T170000
DTSTAMP:20260423T155750
CREATED:20230507T121715Z
LAST-MODIFIED:20230808T155509Z
UID:25845-1692000000-1693674000@spartanwrestling.ca
SUMMARY:Early Bird Registration Begins
DESCRIPTION:
URL:https://spartanwrestling.ca/event/early-bird-registration-begins/
END:VEVENT
END:VCALENDAR