BEGIN:VCALENDAR
VERSION:2.0
PRODID:-//Spartan Wrestling - Calgary Wrestling Club - ECPv6.15.13.1//NONSGML v1.0//EN
CALSCALE:GREGORIAN
METHOD:PUBLISH
X-ORIGINAL-URL:https://spartanwrestling.ca
X-WR-CALDESC:Events for Spartan Wrestling - Calgary Wrestling Club
REFRESH-INTERVAL;VALUE=DURATION:PT1H
X-Robots-Tag:noindex
X-PUBLISHED-TTL:PT1H
BEGIN:VTIMEZONE
TZID:America/Edmonton
BEGIN:DAYLIGHT
TZOFFSETFROM:-0700
TZOFFSETTO:-0600
TZNAME:MDT
DTSTART:20240310T090000
END:DAYLIGHT
BEGIN:STANDARD
TZOFFSETFROM:-0600
TZOFFSETTO:-0700
TZNAME:MST
DTSTART:20241103T080000
END:STANDARD
BEGIN:DAYLIGHT
TZOFFSETFROM:-0700
TZOFFSETTO:-0600
TZNAME:MDT
DTSTART:20250309T090000
END:DAYLIGHT
BEGIN:STANDARD
TZOFFSETFROM:-0600
TZOFFSETTO:-0700
TZNAME:MST
DTSTART:20251102T080000
END:STANDARD
BEGIN:DAYLIGHT
TZOFFSETFROM:-0700
TZOFFSETTO:-0600
TZNAME:MDT
DTSTART:20260308T090000
END:DAYLIGHT
BEGIN:STANDARD
TZOFFSETFROM:-0600
TZOFFSETTO:-0700
TZNAME:MST
DTSTART:20261101T080000
END:STANDARD
BEGIN:DAYLIGHT
TZOFFSETFROM:-0700
TZOFFSETTO:-0600
TZNAME:MDT
DTSTART:20270314T090000
END:DAYLIGHT
BEGIN:STANDARD
TZOFFSETFROM:-0600
TZOFFSETTO:-0700
TZNAME:MST
DTSTART:20271107T080000
END:STANDARD
END:VTIMEZONE
BEGIN:VEVENT
DTSTART;VALUE=DATE:20260123
DTEND;VALUE=DATE:20260124
DTSTAMP:20260423T075727
CREATED:20250921T181359Z
LAST-MODIFIED:20251111T202113Z
UID:27782-1769126400-1769212799@spartanwrestling.ca
SUMMARY:Spartan Cup - Elementary Series - Round 2
DESCRIPTION:
URL:https://spartanwrestling.ca/event/spartan-cup-elementary-series-round-2/
CATEGORIES:Kids (Grade 3-5),Tykes (K-2)
END:VEVENT
BEGIN:VEVENT
DTSTART;VALUE=DATE:20251220
DTEND;VALUE=DATE:20251221
DTSTAMP:20260423T075727
CREATED:20250921T181134Z
LAST-MODIFIED:20251007T135551Z
UID:27776-1766188800-1766275199@spartanwrestling.ca
SUMMARY:Spartan Super Saturday Clinic - Takedowns
DESCRIPTION:
URL:https://spartanwrestling.ca/event/spartan-super-saturday-clinic-takedowns/
CATEGORIES:Adult (Age 18+),Bantam (Grade 6-8),CSG (Grade 9-12),Kids (Grade 3-5),Tykes (K-2)
END:VEVENT
BEGIN:VEVENT
DTSTART;VALUE=DATE:20251219
DTEND;VALUE=DATE:20251220
DTSTAMP:20260423T075727
CREATED:20250921T180907Z
LAST-MODIFIED:20251007T135558Z
UID:27770-1766102400-1766188799@spartanwrestling.ca
SUMMARY:Multi sport Drop in - All Ages - Dodgeball
DESCRIPTION:
URL:https://spartanwrestling.ca/event/multi-sport-drop-in-all-ages-dodgeball/
CATEGORIES:Adult (Age 18+),Bantam (Grade 6-8),CSG (Grade 9-12),Kids (Grade 3-5),Tykes (K-2)
END:VEVENT
BEGIN:VEVENT
DTSTART;VALUE=DATE:20251122
DTEND;VALUE=DATE:20251123
DTSTAMP:20260423T075727
CREATED:20250921T180640Z
LAST-MODIFIED:20251111T201707Z
UID:27764-1763769600-1763855999@spartanwrestling.ca
SUMMARY:Spartan Super Saturday Clinic - Basics and Set ups
DESCRIPTION:
URL:https://spartanwrestling.ca/event/spartan-super-saturday-clinic-basics-and-set-ups/
CATEGORIES:Adult (Age 18+),Bantam (Grade 6-8),CSG (Grade 9-12),Kids (Grade 3-5),Tykes (K-2)
END:VEVENT
BEGIN:VEVENT
DTSTART;VALUE=DATE:20251121
DTEND;VALUE=DATE:20251122
DTSTAMP:20260423T075727
CREATED:20251121T190618Z
LAST-MODIFIED:20251111T201632Z
UID:27762-1763683200-1763769599@spartanwrestling.ca
SUMMARY:Spartan Cup - Elementary Series - Round 1
DESCRIPTION:
URL:https://spartanwrestling.ca/event/spartan-cup-elementary-series-round-1/
CATEGORIES:Kids (Grade 3-5),Tykes (K-2)
END:VEVENT
END:VCALENDAR