BEGIN:VCALENDAR
VERSION:2.0
PRODID:-//Spartan Wrestling - Calgary Wrestling Club - ECPv6.15.13.1//NONSGML v1.0//EN
CALSCALE:GREGORIAN
METHOD:PUBLISH
X-WR-CALNAME:Spartan Wrestling - Calgary Wrestling Club
X-ORIGINAL-URL:https://spartanwrestling.ca
X-WR-CALDESC:Events for Spartan Wrestling - Calgary Wrestling Club
REFRESH-INTERVAL;VALUE=DURATION:PT1H
X-Robots-Tag:noindex
X-PUBLISHED-TTL:PT1H
BEGIN:VTIMEZONE
TZID:America/Edmonton
BEGIN:DAYLIGHT
TZOFFSETFROM:-0700
TZOFFSETTO:-0600
TZNAME:MDT
DTSTART:20250309T090000
END:DAYLIGHT
BEGIN:STANDARD
TZOFFSETFROM:-0600
TZOFFSETTO:-0700
TZNAME:MST
DTSTART:20251102T080000
END:STANDARD
BEGIN:DAYLIGHT
TZOFFSETFROM:-0700
TZOFFSETTO:-0600
TZNAME:MDT
DTSTART:20260308T090000
END:DAYLIGHT
BEGIN:STANDARD
TZOFFSETFROM:-0600
TZOFFSETTO:-0700
TZNAME:MST
DTSTART:20261101T080000
END:STANDARD
BEGIN:DAYLIGHT
TZOFFSETFROM:-0700
TZOFFSETTO:-0600
TZNAME:MDT
DTSTART:20270314T090000
END:DAYLIGHT
BEGIN:STANDARD
TZOFFSETFROM:-0600
TZOFFSETTO:-0700
TZNAME:MST
DTSTART:20271107T080000
END:STANDARD
BEGIN:DAYLIGHT
TZOFFSETFROM:-0700
TZOFFSETTO:-0600
TZNAME:MDT
DTSTART:20280312T090000
END:DAYLIGHT
BEGIN:STANDARD
TZOFFSETFROM:-0600
TZOFFSETTO:-0700
TZNAME:MST
DTSTART:20281105T080000
END:STANDARD
BEGIN:DAYLIGHT
TZOFFSETFROM:-0700
TZOFFSETTO:-0600
TZNAME:MDT
DTSTART:20290311T090000
END:DAYLIGHT
BEGIN:STANDARD
TZOFFSETFROM:-0600
TZOFFSETTO:-0700
TZNAME:MST
DTSTART:20291104T080000
END:STANDARD
END:VTIMEZONE
BEGIN:VEVENT
DTSTART;TZID=America/Edmonton:20260612T183000
DTEND;TZID=America/Edmonton:20260612T210000
DTSTAMP:20260423T050918
CREATED:20250921T235958Z
LAST-MODIFIED:20251007T135029Z
UID:27820-1781289000-1781298000@spartanwrestling.ca
SUMMARY:Spartan Season Ending Banquet
DESCRIPTION:
URL:https://spartanwrestling.ca/event/spartan-season-ending-banquet/
CATEGORIES:Adult (Age 18+),Bantam (Grade 6-8),CSG (Grade 9-12),Kids (Grade 3-5),Tykes (K-2)
END:VEVENT
BEGIN:VEVENT
DTSTART;VALUE=DATE:20270115
DTEND;VALUE=DATE:20270118
DTSTAMP:20260423T050918
CREATED:20251007T133531Z
LAST-MODIFIED:20251007T135007Z
UID:27853-1799971200-1800230399@spartanwrestling.ca
SUMMARY:2027 Calgary Open
DESCRIPTION:
URL:https://spartanwrestling.ca/event/2027-calgary-open/
CATEGORIES:Adult (Age 18+),Bantam (Grade 6-8),CSG (Grade 9-12),Kids (Grade 3-5),Tykes (K-2)
END:VEVENT
BEGIN:VEVENT
DTSTART;VALUE=DATE:20270409
DTEND;VALUE=DATE:20270412
DTSTAMP:20260423T050918
CREATED:20251007T133342Z
LAST-MODIFIED:20251007T134951Z
UID:27850-1807228800-1807487999@spartanwrestling.ca
SUMMARY:2027 Spartan Invitational
DESCRIPTION:
URL:https://spartanwrestling.ca/event/2027-spartan-invitational/
CATEGORIES:Adult (Age 18+),Bantam (Grade 6-8),CSG (Grade 9-12),Kids (Grade 3-5),Tykes (K-2)
END:VEVENT
BEGIN:VEVENT
DTSTART;VALUE=DATE:20280114
DTEND;VALUE=DATE:20280117
DTSTAMP:20260423T050918
CREATED:20251007T133627Z
LAST-MODIFIED:20251007T134921Z
UID:27856-1831420800-1831679999@spartanwrestling.ca
SUMMARY:2028 Calgary Open
DESCRIPTION:
URL:https://spartanwrestling.ca/event/2028-calgary-open/
CATEGORIES:Adult (Age 18+),Bantam (Grade 6-8),CSG (Grade 9-12),Kids (Grade 3-5),Tykes (K-2)
END:VEVENT
END:VCALENDAR