BEGIN:VCALENDAR
VERSION:2.0
PRODID:-//Spartan Wrestling - Calgary Wrestling Club - ECPv6.15.13.1//NONSGML v1.0//EN
CALSCALE:GREGORIAN
METHOD:PUBLISH
X-ORIGINAL-URL:https://spartanwrestling.ca
X-WR-CALDESC:Events for Spartan Wrestling - Calgary Wrestling Club
REFRESH-INTERVAL;VALUE=DURATION:PT1H
X-Robots-Tag:noindex
X-PUBLISHED-TTL:PT1H
BEGIN:VTIMEZONE
TZID:America/Edmonton
BEGIN:DAYLIGHT
TZOFFSETFROM:-0700
TZOFFSETTO:-0600
TZNAME:MDT
DTSTART:20240310T090000
END:DAYLIGHT
BEGIN:STANDARD
TZOFFSETFROM:-0600
TZOFFSETTO:-0700
TZNAME:MST
DTSTART:20241103T080000
END:STANDARD
BEGIN:DAYLIGHT
TZOFFSETFROM:-0700
TZOFFSETTO:-0600
TZNAME:MDT
DTSTART:20250309T090000
END:DAYLIGHT
BEGIN:STANDARD
TZOFFSETFROM:-0600
TZOFFSETTO:-0700
TZNAME:MST
DTSTART:20251102T080000
END:STANDARD
BEGIN:DAYLIGHT
TZOFFSETFROM:-0700
TZOFFSETTO:-0600
TZNAME:MDT
DTSTART:20260308T090000
END:DAYLIGHT
BEGIN:STANDARD
TZOFFSETFROM:-0600
TZOFFSETTO:-0700
TZNAME:MST
DTSTART:20261101T080000
END:STANDARD
BEGIN:DAYLIGHT
TZOFFSETFROM:-0700
TZOFFSETTO:-0600
TZNAME:MDT
DTSTART:20270314T090000
END:DAYLIGHT
BEGIN:STANDARD
TZOFFSETFROM:-0600
TZOFFSETTO:-0700
TZNAME:MST
DTSTART:20271107T080000
END:STANDARD
END:VTIMEZONE
BEGIN:VEVENT
DTSTART;VALUE=DATE:20260417
DTEND;VALUE=DATE:20260418
DTSTAMP:20260423T063355
CREATED:20250921T183813Z
LAST-MODIFIED:20251007T135046Z
UID:27816-1776384000-1776470399@spartanwrestling.ca
SUMMARY:Multi sport Drop in - All Ages - Pickleball
DESCRIPTION:
URL:https://spartanwrestling.ca/event/multi-sport-drop-in-all-ages-pickleball-2/
CATEGORIES:Adult (Age 18+),Bantam (Grade 6-8),CSG (Grade 9-12),Kids (Grade 3-5),Tykes (K-2)
END:VEVENT
BEGIN:VEVENT
DTSTART;VALUE=DATE:20260411
DTEND;VALUE=DATE:20260413
DTSTAMP:20260423T063355
CREATED:20250921T183609Z
LAST-MODIFIED:20251007T135319Z
UID:27814-1775865600-1776038399@spartanwrestling.ca
SUMMARY:2026 Spartan Invitational
DESCRIPTION:Open Technical Package \n 
URL:https://spartanwrestling.ca/event/spartan-invitational/
CATEGORIES:Adult (Age 18+),Bantam (Grade 6-8),CSG (Grade 9-12),Kids (Grade 3-5),Tykes (K-2)
END:VEVENT
BEGIN:VEVENT
DTSTART;VALUE=DATE:20260328
DTEND;VALUE=DATE:20260330
DTSTAMP:20260423T063355
CREATED:20250921T183213Z
LAST-MODIFIED:20251007T135336Z
UID:27810-1774656000-1774828799@spartanwrestling.ca
SUMMARY:Alberta Open - Provincial Championships
DESCRIPTION:
URL:https://spartanwrestling.ca/event/alberta-open-provincial-championships/
CATEGORIES:Adult (Age 18+),Bantam (Grade 6-8),CSG (Grade 9-12),Kids (Grade 3-5),Tykes (K-2)
END:VEVENT
BEGIN:VEVENT
DTSTART;VALUE=DATE:20260320
DTEND;VALUE=DATE:20260321
DTSTAMP:20260423T063355
CREATED:20250921T183032Z
LAST-MODIFIED:20251007T135349Z
UID:27806-1773964800-1774051199@spartanwrestling.ca
SUMMARY:Spartan Cup - Elementary Series - Round 4
DESCRIPTION:
URL:https://spartanwrestling.ca/event/spartan-cup-elementary-series-round-4/
CATEGORIES:Kids (Grade 3-5),Tykes (K-2)
END:VEVENT
BEGIN:VEVENT
DTSTART;VALUE=DATE:20260307
DTEND;VALUE=DATE:20260308
DTSTAMP:20260423T063355
CREATED:20250921T182723Z
LAST-MODIFIED:20251007T135359Z
UID:27802-1772841600-1772927999@spartanwrestling.ca
SUMMARY:Cochrane Invitational
DESCRIPTION:
URL:https://spartanwrestling.ca/event/cochrane-invitational/
CATEGORIES:Bantam (Grade 6-8),CSG (Grade 9-12),Kids (Grade 3-5),Tykes (K-2)
END:VEVENT
BEGIN:VEVENT
DTSTART;VALUE=DATE:20260227
DTEND;VALUE=DATE:20260228
DTSTAMP:20260423T063355
CREATED:20250921T181050Z
LAST-MODIFIED:20251007T135413Z
UID:27774-1772150400-1772236799@spartanwrestling.ca
SUMMARY:Multi sport Drop in - All Ages -  Dodgeball
DESCRIPTION:
URL:https://spartanwrestling.ca/event/multi-sport-drop-in-all-ages-dodgeball-2/
CATEGORIES:Adult (Age 18+),Bantam (Grade 6-8),CSG (Grade 9-12),Kids (Grade 3-5),Tykes (K-2)
END:VEVENT
BEGIN:VEVENT
DTSTART;VALUE=DATE:20260221
DTEND;VALUE=DATE:20260222
DTSTAMP:20260423T063355
CREATED:20250921T182111Z
LAST-MODIFIED:20251007T135420Z
UID:27798-1771632000-1771718399@spartanwrestling.ca
SUMMARY:Spartan Super Saturday Clinic - Ground Wrestling
DESCRIPTION:
URL:https://spartanwrestling.ca/event/spartan-super-saturday-clinic-ground-wrestling/
CATEGORIES:Adult (Age 18+),Bantam (Grade 6-8),CSG (Grade 9-12),Kids (Grade 3-5),Tykes (K-2)
END:VEVENT
BEGIN:VEVENT
DTSTART;VALUE=DATE:20260221
DTEND;VALUE=DATE:20260222
DTSTAMP:20260423T063355
CREATED:20250921T182016Z
LAST-MODIFIED:20251007T135427Z
UID:27796-1771632000-1771718399@spartanwrestling.ca
SUMMARY:Jr Olympics
DESCRIPTION:
URL:https://spartanwrestling.ca/event/jr-olympics/
CATEGORIES:Bantam (Grade 6-8),Kids (Grade 3-5),Tykes (K-2)
END:VEVENT
BEGIN:VEVENT
DTSTART;VALUE=DATE:20260214
DTEND;VALUE=DATE:20260215
DTSTAMP:20260423T063355
CREATED:20250921T181926Z
LAST-MODIFIED:20251007T135433Z
UID:27794-1771027200-1771113599@spartanwrestling.ca
SUMMARY:Spartan Super Saturday Clinic - Neutral Wrestling
DESCRIPTION:
URL:https://spartanwrestling.ca/event/spartan-super-saturday-clinic-neutral-wrestling/
CATEGORIES:Adult (Age 18+),Bantam (Grade 6-8),CSG (Grade 9-12),Kids (Grade 3-5),Tykes (K-2)
END:VEVENT
BEGIN:VEVENT
DTSTART;VALUE=DATE:20260213
DTEND;VALUE=DATE:20260214
DTSTAMP:20260423T063355
CREATED:20250921T181728Z
LAST-MODIFIED:20251007T135450Z
UID:27790-1770940800-1771027199@spartanwrestling.ca
SUMMARY:Spartan Cup - Elementary Series - Round 3
DESCRIPTION:
URL:https://spartanwrestling.ca/event/spartan-cup-elementary-series-round-3/
CATEGORIES:Kids (Grade 3-5),Tykes (K-2)
END:VEVENT
BEGIN:VEVENT
DTSTART;VALUE=DATE:20260130
DTEND;VALUE=DATE:20260131
DTSTAMP:20260423T063355
CREATED:20250921T181022Z
LAST-MODIFIED:20251007T135512Z
UID:27772-1769731200-1769817599@spartanwrestling.ca
SUMMARY:Multi sport Drop in - All Ages - Floor Hockey
DESCRIPTION:
URL:https://spartanwrestling.ca/event/multi-sport-drop-in-all-ages-floor-hockey/
CATEGORIES:Adult (Age 18+),Bantam (Grade 6-8),CSG (Grade 9-12),Kids (Grade 3-5),Tykes (K-2)
END:VEVENT
BEGIN:VEVENT
DTSTART;VALUE=DATE:20260124
DTEND;VALUE=DATE:20260125
DTSTAMP:20260423T063355
CREATED:20250921T181427Z
LAST-MODIFIED:20251111T202154Z
UID:27784-1769212800-1769299199@spartanwrestling.ca
SUMMARY:Spartan Super Saturday Clinic - Throws
DESCRIPTION:
URL:https://spartanwrestling.ca/event/spartan-super-saturday-clinic-throws/
CATEGORIES:Adult (Age 18+),Bantam (Grade 6-8),CSG (Grade 9-12),Kids (Grade 3-5),Tykes (K-2)
END:VEVENT
BEGIN:VEVENT
DTSTART;VALUE=DATE:20260123
DTEND;VALUE=DATE:20260124
DTSTAMP:20260423T063355
CREATED:20250921T181359Z
LAST-MODIFIED:20251111T202113Z
UID:27782-1769126400-1769212799@spartanwrestling.ca
SUMMARY:Spartan Cup - Elementary Series - Round 2
DESCRIPTION:
URL:https://spartanwrestling.ca/event/spartan-cup-elementary-series-round-2/
CATEGORIES:Kids (Grade 3-5),Tykes (K-2)
END:VEVENT
BEGIN:VEVENT
DTSTART;VALUE=DATE:20251220
DTEND;VALUE=DATE:20251221
DTSTAMP:20260423T063355
CREATED:20250921T181134Z
LAST-MODIFIED:20251007T135551Z
UID:27776-1766188800-1766275199@spartanwrestling.ca
SUMMARY:Spartan Super Saturday Clinic - Takedowns
DESCRIPTION:
URL:https://spartanwrestling.ca/event/spartan-super-saturday-clinic-takedowns/
CATEGORIES:Adult (Age 18+),Bantam (Grade 6-8),CSG (Grade 9-12),Kids (Grade 3-5),Tykes (K-2)
END:VEVENT
BEGIN:VEVENT
DTSTART;VALUE=DATE:20251219
DTEND;VALUE=DATE:20251220
DTSTAMP:20260423T063355
CREATED:20250921T180907Z
LAST-MODIFIED:20251007T135558Z
UID:27770-1766102400-1766188799@spartanwrestling.ca
SUMMARY:Multi sport Drop in - All Ages - Dodgeball
DESCRIPTION:
URL:https://spartanwrestling.ca/event/multi-sport-drop-in-all-ages-dodgeball/
CATEGORIES:Adult (Age 18+),Bantam (Grade 6-8),CSG (Grade 9-12),Kids (Grade 3-5),Tykes (K-2)
END:VEVENT
BEGIN:VEVENT
DTSTART;VALUE=DATE:20251122
DTEND;VALUE=DATE:20251123
DTSTAMP:20260423T063355
CREATED:20250921T180640Z
LAST-MODIFIED:20251111T201707Z
UID:27764-1763769600-1763855999@spartanwrestling.ca
SUMMARY:Spartan Super Saturday Clinic - Basics and Set ups
DESCRIPTION:
URL:https://spartanwrestling.ca/event/spartan-super-saturday-clinic-basics-and-set-ups/
CATEGORIES:Adult (Age 18+),Bantam (Grade 6-8),CSG (Grade 9-12),Kids (Grade 3-5),Tykes (K-2)
END:VEVENT
BEGIN:VEVENT
DTSTART;VALUE=DATE:20251121
DTEND;VALUE=DATE:20251122
DTSTAMP:20260423T063355
CREATED:20251121T190618Z
LAST-MODIFIED:20251111T201632Z
UID:27762-1763683200-1763769599@spartanwrestling.ca
SUMMARY:Spartan Cup - Elementary Series - Round 1
DESCRIPTION:
URL:https://spartanwrestling.ca/event/spartan-cup-elementary-series-round-1/
CATEGORIES:Kids (Grade 3-5),Tykes (K-2)
END:VEVENT
END:VCALENDAR